BEGIN:VCALENDAR
VERSION:2.0
PRODID:-//ChamberMaster//Event Calendar 2.0//EN
METHOD:PUBLISH
X-PUBLISHED-TTL:P1H
REFRESH-INTERVAL:P1H
CALSCALE:GREGORIAN
BEGIN:VTIMEZONE
TZID:America/New_York
BEGIN:DAYLIGHT
RRULE:FREQ=YEARLY;BYMONTH=3;BYDAY=2SU
DTSTART:20070101T000000
TZOFFSETFROM:-0500
TZOFFSETTO:-0400
TZNAME:Eastern Daylight Time
END:DAYLIGHT
BEGIN:STANDARD
RRULE:FREQ=YEARLY;BYMONTH=11;BYDAY=1SU
DTSTART:20070101T000000
TZOFFSETFROM:-0400
TZOFFSETTO:-0500
TZNAME:Eastern Standard Time
END:STANDARD
END:VTIMEZONE
BEGIN:VEVENT
DTSTART;TZID=America/New_York:20260413T180000
DTEND;TZID=America/New_York:20260413T190000
X-MICROSOFT-CDO-ALLDAYEVENT:FALSE
SUMMARY:University of Louisville Master of Science in Health Administration Virtual Info Session
DESCRIPTION:https://apply.louisville.edu/register/?id=f3c9356b-3155-495d-8de8-dd8aa0ffada9&utm_source=InfoSession&utm_medium=InfoSession&sys:field:OL_program=1fec6c55-7edb-456e-bc4d-0b7cbe96fe1b
X-ALT-DESC;FMTTYPE=text/html:<!DOCTYPE html><html><head><title></title></head><body aria-disabled="false"><p><a fr-original-style="" href="https://apply.louisville.edu/register/?id=f3c9356b-3155-495d-8de8-dd8aa0ffada9&utm_source=InfoSession&utm_medium=InfoSession&sys:field:OL_program=1fec6c55-7edb-456e-bc4d-0b7cbe96fe1b" style="user-select: auto\;">https://apply.louisville.edu/register/?id=f3c9356b-3155-495d-8de8-dd8aa0ffada9&amp\;utm_source=InfoSession&amp\;utm_medium=InfoSession&amp\;sys:field:OL_program=1fec6c55-7edb-456e-bc4d-0b7cbe96fe1b</a></p></body></html>
LOCATION:
UID:e.4165.1429377
SEQUENCE:3
DTSTAMP:20260420T105828Z
URL:https://members.greaterlouisville.com/eventcalendar/Details/university-of-louisville-master-of-science-in-health-administration-virtual-info-session-1690845?sourceTypeId=Hub
END:VEVENT
END:VCALENDAR
