BEGIN:VCALENDAR
VERSION:2.0
PRODID:-//ChamberMaster//Event Calendar 2.0//EN
METHOD:PUBLISH
X-PUBLISHED-TTL:P1H
REFRESH-INTERVAL:P1H
CALSCALE:GREGORIAN
BEGIN:VTIMEZONE
TZID:America/New_York
BEGIN:DAYLIGHT
RRULE:FREQ=YEARLY;BYMONTH=3;BYDAY=2SU
DTSTART:20070101T000000
TZOFFSETFROM:-0500
TZOFFSETTO:-0400
TZNAME:Eastern Daylight Time
END:DAYLIGHT
BEGIN:STANDARD
RRULE:FREQ=YEARLY;BYMONTH=11;BYDAY=1SU
DTSTART:20070101T000000
TZOFFSETFROM:-0400
TZOFFSETTO:-0500
TZNAME:Eastern Standard Time
END:STANDARD
END:VTIMEZONE
BEGIN:VEVENT
DTSTART;TZID=America/New_York:20260428T190000
DTEND;TZID=America/New_York:20260428T200000
X-MICROSOFT-CDO-ALLDAYEVENT:FALSE
SUMMARY:University of Louisville Master of Business Administration Virtual Info Session
DESCRIPTION:https://apply.louisville.edu/register/?id=c0f47ebd-059a-469c-a01b-7617fc0cb753&utm_source=InfoSession&utm_medium=InfoSession&sys:field:OL_program=c8ec08d4-c93c-4fa4-abf4-b4d6bb81c5ca
X-ALT-DESC;FMTTYPE=text/html:<!DOCTYPE html><html><head><title></title></head><body aria-disabled="false"><p><a fr-original-style="" href="https://apply.louisville.edu/register/?id=c0f47ebd-059a-469c-a01b-7617fc0cb753&utm_source=InfoSession&utm_medium=InfoSession&sys:field:OL_program=c8ec08d4-c93c-4fa4-abf4-b4d6bb81c5ca" style="user-select: auto\;">https://apply.louisville.edu/register/?id=c0f47ebd-059a-469c-a01b-7617fc0cb753&amp\;utm_source=InfoSession&amp\;utm_medium=InfoSession&amp\;sys:field:OL_program=c8ec08d4-c93c-4fa4-abf4-b4d6bb81c5ca</a></p></body></html>
LOCATION:
UID:e.4165.1433811
SEQUENCE:3
DTSTAMP:20260420T105812Z
URL:https://members.greaterlouisville.com/eventcalendar/Details/university-of-louisville-master-of-business-administration-virtual-info-session-1697269?sourceTypeId=Hub
END:VEVENT
END:VCALENDAR
