BEGIN:VCALENDAR
VERSION:2.0
PRODID:-//ChamberMaster//Event Calendar 2.0//EN
METHOD:PUBLISH
X-PUBLISHED-TTL:P1H
REFRESH-INTERVAL:P1H
CALSCALE:GREGORIAN
BEGIN:VTIMEZONE
TZID:America/New_York
BEGIN:DAYLIGHT
RRULE:FREQ=YEARLY;BYMONTH=3;BYDAY=2SU
DTSTART:20070101T000000
TZOFFSETFROM:-0500
TZOFFSETTO:-0400
TZNAME:Eastern Daylight Time
END:DAYLIGHT
BEGIN:STANDARD
RRULE:FREQ=YEARLY;BYMONTH=11;BYDAY=1SU
DTSTART:20070101T000000
TZOFFSETFROM:-0400
TZOFFSETTO:-0500
TZNAME:Eastern Standard Time
END:STANDARD
END:VTIMEZONE
BEGIN:VEVENT
DTSTART;TZID=America/New_York:20260416T113000
DTEND;TZID=America/New_York:20260416T123000
X-MICROSOFT-CDO-ALLDAYEVENT:FALSE
SUMMARY:University of Louisville Doctor of Social Work Virtual Info Session
DESCRIPTION:https://apply.louisville.edu/register/?id=bf08bb88-46fc-47bb-982a-99ec33bea813&utm_source=InfoSession&utm_medium=InfoSession&sys:field:OL_program=9eb43b0f-ae42-406d-b887-d08b7ed4ee81
X-ALT-DESC;FMTTYPE=text/html:<!DOCTYPE html><html><head><title></title></head><body aria-disabled="false"><p><a fr-original-style="" href="https://apply.louisville.edu/register/?id=bf08bb88-46fc-47bb-982a-99ec33bea813&utm_source=InfoSession&utm_medium=InfoSession&sys:field:OL_program=9eb43b0f-ae42-406d-b887-d08b7ed4ee81" style="user-select: auto\;">https://apply.louisville.edu/register/?id=bf08bb88-46fc-47bb-982a-99ec33bea813&amp\;utm_source=InfoSession&amp\;utm_medium=InfoSession&amp\;sys:field:OL_program=9eb43b0f-ae42-406d-b887-d08b7ed4ee81</a></p></body></html>
LOCATION:
UID:e.4165.1432594
SEQUENCE:3
DTSTAMP:20260420T110011Z
URL:https://members.greaterlouisville.com/eventcalendar/Details/university-of-louisville-doctor-of-social-work-virtual-info-session-1695506?sourceTypeId=Hub
END:VEVENT
END:VCALENDAR
