BEGIN:VCALENDAR
VERSION:2.0
PRODID:-//ChamberMaster//Event Calendar 2.0//EN
METHOD:PUBLISH
X-PUBLISHED-TTL:P1H
REFRESH-INTERVAL:P1H
CALSCALE:GREGORIAN
BEGIN:VTIMEZONE
TZID:America/New_York
BEGIN:DAYLIGHT
RRULE:FREQ=YEARLY;BYMONTH=3;BYDAY=2SU
DTSTART:20070101T000000
TZOFFSETFROM:-0500
TZOFFSETTO:-0400
TZNAME:Eastern Daylight Time
END:DAYLIGHT
BEGIN:STANDARD
RRULE:FREQ=YEARLY;BYMONTH=11;BYDAY=1SU
DTSTART:20070101T000000
TZOFFSETFROM:-0400
TZOFFSETTO:-0500
TZNAME:Eastern Standard Time
END:STANDARD
END:VTIMEZONE
BEGIN:VEVENT
DTSTART;TZID=America/New_York:20260422T180000
DTEND;TZID=America/New_York:20260422T190000
X-MICROSOFT-CDO-ALLDAYEVENT:FALSE
SUMMARY:University of Louisville Bachelor of Social Work Virtual Info Session
DESCRIPTION:https://apply.louisville.edu/register/?id=59fa0a99-c69e-4917-90c6-f7c305941752&utm_source=InfoSession&utm_medium=InfoSession&sys:field:OL_program=79d3a731-469d-40a7-9270-f419e61d3776
X-ALT-DESC;FMTTYPE=text/html:<!DOCTYPE html><html><head><title></title></head><body aria-disabled="false"><p><a fr-original-style="" href="https://apply.louisville.edu/register/?id=59fa0a99-c69e-4917-90c6-f7c305941752&utm_source=InfoSession&utm_medium=InfoSession&sys:field:OL_program=79d3a731-469d-40a7-9270-f419e61d3776" style="user-select: auto\;">https://apply.louisville.edu/register/?id=59fa0a99-c69e-4917-90c6-f7c305941752&amp\;utm_source=InfoSession&amp\;utm_medium=InfoSession&amp\;sys:field:OL_program=79d3a731-469d-40a7-9270-f419e61d3776</a></p></body></html>
LOCATION:
UID:e.4165.1432742
SEQUENCE:3
DTSTAMP:20260420T105705Z
URL:https://members.greaterlouisville.com/eventcalendar/Details/university-of-louisville-bachelor-of-social-work-virtual-info-session-1695802?sourceTypeId=Hub
END:VEVENT
END:VCALENDAR
