BEGIN:VCALENDAR
VERSION:2.0
PRODID:-//ChamberMaster//Event Calendar 2.0//EN
METHOD:PUBLISH
X-PUBLISHED-TTL:P1H
REFRESH-INTERVAL:P1H
CALSCALE:GREGORIAN
BEGIN:VTIMEZONE
TZID:America/New_York
BEGIN:DAYLIGHT
RRULE:FREQ=YEARLY;BYMONTH=3;BYDAY=2SU
DTSTART:20070101T000000
TZOFFSETFROM:-0500
TZOFFSETTO:-0400
TZNAME:Eastern Daylight Time
END:DAYLIGHT
BEGIN:STANDARD
RRULE:FREQ=YEARLY;BYMONTH=11;BYDAY=1SU
DTSTART:20070101T000000
TZOFFSETFROM:-0400
TZOFFSETTO:-0500
TZNAME:Eastern Standard Time
END:STANDARD
END:VTIMEZONE
BEGIN:VEVENT
DTSTART;TZID=America/New_York:20260420T083000
DTEND;TZID=America/New_York:20260423T160000
X-MICROSOFT-CDO-ALLDAYEVENT:FALSE
SUMMARY:Spring Regulatory Compliance Conference
DESCRIPTION:Navigating the Regulatory Landscape! Have you found it difficult to keep up with the regulatory landscape and perhaps wondering "What's going on"? Do you find it difficult to navigate all the changes and how those may impact your operations? Join ProBank Education Services at our Spring Regulatory Compliance Conference in Lexington\, Kentucky from April 20-23\, 2026. We will delve into the changes to help you navigate the compliance focus areas for your organization and answer those questions.Our team will help you to innovate your compliance program and adapt your leadership approach to build your organization's success.  Our four-day conference is focused on the latest in deposits\, BSA\, and lending compliance topics.Topics Include:Establishing Commercial Deposit AccountsFCRA Deposit IssuesRegulation E Error Resolution and Liability RequirementsRegulation DD Advertising Requirements2026 IRA Contribution and Deduction LimitsSlow and Steady - AML/CFT/BSA Compliance UpdatesFraud "Hot Topics" - No Longer Simple Romance ScamsPayments UpdatesStablecoin Insights -The GENIUS Act & Its ImpactsSAR - No Longer Just a Coast Guard FunctionRegulator PanelUDAP/UDAAP: But I'm in Compliance with the RulesTruth in the Details: TRID ComplianceFair Lending Lifecycle Third-Party Risk ManagementAnd more!Why Attend? Learn\, Network\, and Grow!Experienced Presenters: Learn from industry leaders and regulatory experts.Networking Opportunities: Connect with peers and expand your professional network.Practical Insights: Gain actionable strategies to implement in your organization.Leadership Development: Enhance your leadership skills to drive compliance success.Don't miss this opportunity to stay compliant\, lead with confidence\, and drive your organization forward.
X-ALT-DESC;FMTTYPE=text/html:<!DOCTYPE html><html><head><title></title></head><body aria-disabled="false"><p style="box-sizing: inherit\; outline: none\; margin: 1em 0px\; color: rgb(70\, 75\, 75)\; font-family: arial\; font-size: 19.9669px\; font-style: normal\; font-variant-ligatures: normal\; font-variant-caps: normal\; font-weight: 400\; letter-spacing: normal\; orphans: 2\; text-align: inherit\; text-indent: 0px\; text-transform: none\; widows: 2\; word-spacing: 0px\; -webkit-text-stroke-width: 0px\; white-space: normal\; text-decoration-thickness: initial\; text-decoration-style: initial\; text-decoration-color: initial\;"><span style="box-sizing: inherit\; outline: none\; font-size: 12pt\; background-color: unset\; text-align: inherit\; font-style: italic\;"><span style="box-sizing: inherit\; outline: none\; font-weight: bold\;">Navigating the Regulatory Landscape!&nbsp\;</span></span><span style="box-sizing: inherit\; outline: none\; font-size: 12pt\; background-color: unset\; text-align: inherit\;">Have you found it difficult to keep up with the regulatory landscape and perhaps wondering &ldquo\;What&rsquo\;s going on&rdquo\;? Do you find it difficult to navigate all the changes and how those may impact your operations? Join ProBank Education Services at our&nbsp\;</span><span style="box-sizing: inherit\; outline: none\; font-size: 12pt\; background-color: unset\; text-align: inherit\; font-weight: bold\;">Spring Regulatory Compliance Conference</span><span style="box-sizing: inherit\; outline: none\; font-size: 12pt\; background-color: unset\; text-align: inherit\;">&nbsp\;in&nbsp\;</span><span style="box-sizing: inherit\; outline: none\; font-size: 12pt\; background-color: unset\; text-align: inherit\; font-weight: bold\;">Lexington\, Kentucky</span><span style="box-sizing: inherit\; outline: none\; font-size: 12pt\; background-color: unset\; text-align: inherit\;">&nbsp\;from</span><span style="box-sizing: inherit\; outline: none\; font-size: 12pt\; background-color: unset\; text-align: inherit\; font-weight: bold\;">&nbsp\;April 20-23\, 2026.</span><span style="box-sizing: inherit\; outline: none\; font-size: 12pt\; background-color: unset\; text-align: inherit\;">&nbsp\;We will delve into the changes to help you navigate the compliance focus areas for your organization and answer those questions.</span></p><p style="box-sizing: inherit\; outline: none\; margin: 1em 0px\; color: rgb(70\, 75\, 75)\; font-family: arial\; font-size: 19.9669px\; font-style: normal\; font-variant-ligatures: normal\; font-variant-caps: normal\; font-weight: 400\; letter-spacing: normal\; orphans: 2\; text-align: start\; text-indent: 0px\; text-transform: none\; widows: 2\; word-spacing: 0px\; -webkit-text-stroke-width: 0px\; white-space: normal\; text-decoration-thickness: initial\; text-decoration-style: initial\; text-decoration-color: initial\;"><span style="box-sizing: inherit\; outline: none\; font-size: 12pt\;">Our team will help you to innovate your compliance program and adapt your leadership approach to build your organization&rsquo\;s success. &nbsp\;Our four-day conference is focused on the latest in deposits\, BSA\, and lending compliance topics.</span></p><p style="box-sizing: inherit\; outline: none\; margin: 1em 0px\; color: rgb(70\, 75\, 75)\; font-family: arial\; font-size: 19.9669px\; font-style: normal\; font-variant-ligatures: normal\; font-variant-caps: normal\; font-weight: 400\; letter-spacing: normal\; orphans: 2\; text-align: start\; text-indent: 0px\; text-transform: none\; widows: 2\; word-spacing: 0px\; -webkit-text-stroke-width: 0px\; white-space: normal\; text-decoration-thickness: initial\; text-decoration-style: initial\; text-decoration-color: initial\;"><span style="box-sizing: inherit\; outline: none\; font-size: 12pt\;"><strong fr-original-style="box-sizing: inherit\; outline: none\; font-weight: bold\;" style="box-sizing: inherit\; outline: none\; font-weight: bold\;">Topics Include:</strong></span></p><ul fr-original-style="box-sizing: inherit\; outline: none\; margin: 0px 0px 1rem 2rem\; padding: 0px\; color: rgb(70\, 75\, 75)\; font-family: arial\; font-size: 19.9669px\; font-style: normal\; font-variant-ligatures: normal\; font-variant-caps: normal\; font-weight: 400\; letter-spacing: normal\; orphans: 2\; text-align: start\; text-indent: 0px\; text-transform: none\; widows: 2\; word-spacing: 0px\; -webkit-text-stroke-width: 0px\; white-space: normal\; text-decoration-thickness: initial\; text-decoration-style: initial\; text-decoration-color: initial\; list-style-image: none\; list-style-type: disc\;" style="box-sizing: inherit\; outline: none\; margin: 0px 0px 1rem 2rem\; padding: 0px\; color: rgb(70\, 75\, 75)\; font-family: arial\; font-size: 19.9669px\; font-style: normal\; font-variant-ligatures: normal\; font-variant-caps: normal\; font-weight: 400\; letter-spacing: normal\; orphans: 2\; text-align: start\; text-indent: 0px\; text-transform: none\; widows: 2\; word-spacing: 0px\; -webkit-text-stroke-width: 0px\; white-space: normal\; text-decoration-thickness: initial\; text-decoration-style: initial\; text-decoration-color: initial\; list-style: inside none disc\;"><li style="box-sizing: inherit\; outline: none\;"><span style="box-sizing: inherit\; outline: none\; font-size: 12pt\;">Establishing Commercial Deposit Accounts</span></li><li style="box-sizing: inherit\; outline: none\;"><span style="box-sizing: inherit\; outline: none\; font-size: 12pt\;">FCRA Deposit Issues</span></li><li style="box-sizing: inherit\; outline: none\;"><span style="box-sizing: inherit\; outline: none\; font-size: 12pt\;">Regulation E Error Resolution and Liability Requirements</span></li><li style="box-sizing: inherit\; outline: none\;"><span style="box-sizing: inherit\; outline: none\; font-size: 12pt\;">Regulation DD Advertising Requirements</span></li><li style="box-sizing: inherit\; outline: none\;"><span style="box-sizing: inherit\; outline: none\; font-size: 12pt\;">2026 IRA Contribution and Deduction Limits</span></li><li style="box-sizing: inherit\; outline: none\;"><span style="box-sizing: inherit\; outline: none\; font-size: 12pt\;">Slow and Steady - AML/CFT/BSA Compliance Updates</span></li><li style="box-sizing: inherit\; outline: none\;"><span style="box-sizing: inherit\; outline: none\; font-size: 12pt\;">Fraud &quot\;Hot Topics&quot\; - No Longer Simple Romance Scams</span></li><li style="box-sizing: inherit\; outline: none\;"><span style="box-sizing: inherit\; outline: none\; font-size: 12pt\;">Payments Updates</span></li><li style="box-sizing: inherit\; outline: none\;"><span style="box-sizing: inherit\; outline: none\; font-size: 12pt\;">Stablecoin Insights -The GENIUS Act &amp\; Its Impacts</span></li><li style="box-sizing: inherit\; outline: none\;"><span style="box-sizing: inherit\; outline: none\; font-size: 12pt\;">SAR - No Longer Just a Coast Guard Function</span></li><li style="box-sizing: inherit\; outline: none\;"><span style="box-sizing: inherit\; outline: none\; font-size: 12pt\;">Regulator Panel</span></li><li style="box-sizing: inherit\; outline: none\;">UDAP/UDAAP: But I&#39\;m in Compliance with the Rules</li><li style="box-sizing: inherit\; outline: none\;">Truth in the Details: TRID Compliance</li><li style="box-sizing: inherit\; outline: none\;">Fair Lending Lifecycle&nbsp\;</li><li style="box-sizing: inherit\; outline: none\;">Third-Party Risk Management</li><li style="box-sizing: inherit\; outline: none\;">And more!</li></ul><p style="box-sizing: inherit\; outline: none\; margin: 1em 0px\; color: rgb(70\, 75\, 75)\; font-family: arial\; font-size: 19.9669px\; font-style: normal\; font-variant-ligatures: normal\; font-variant-caps: normal\; font-weight: 400\; letter-spacing: normal\; orphans: 2\; text-align: start\; text-indent: 0px\; text-transform: none\; widows: 2\; word-spacing: 0px\; -webkit-text-stroke-width: 0px\; white-space: normal\; text-decoration-thickness: initial\; text-decoration-style: initial\; text-decoration-color: initial\;"><strong fr-original-style="box-sizing: inherit\; outline: none\; font-weight: bold\;" style="box-sizing: inherit\; outline: none\; font-weight: bold\;">Why Attend?&nbsp\;Learn\, Network\, and Grow!</strong></p><ul fr-original-style="box-sizing: inherit\; outline: none\; margin: 0px 0px 1rem 2rem\; padding: 0px\; color: rgb(70\, 75\, 75)\; font-family: arial\; font-size: 19.9669px\; font-style: normal\; font-variant-ligatures: normal\; font-variant-caps: normal\; font-weight: 400\; letter-spacing: normal\; orphans: 2\; text-align: start\; text-indent: 0px\; text-transform: none\; widows: 2\; word-spacing: 0px\; -webkit-text-stroke-width: 0px\; white-space: normal\; text-decoration-thickness: initial\; text-decoration-style: initial\; text-decoration-color: initial\;" style="box-sizing: inherit\; outline: none\; margin: 0px 0px 1rem 2rem\; padding: 0px\; color: rgb(70\, 75\, 75)\; font-family: arial\; font-size: 19.9669px\; font-style: normal\; font-variant-ligatures: normal\; font-variant-caps: normal\; font-weight: 400\; letter-spacing: normal\; orphans: 2\; text-align: start\; text-indent: 0px\; text-transform: none\; widows: 2\; word-spacing: 0px\; -webkit-text-stroke-width: 0px\; white-space: normal\; text-decoration-thickness: initial\; text-decoration-style: initial\; text-decoration-color: initial\; list-style-position: inside\;"><li style="box-sizing: inherit\; outline: none\;"><span style="box-sizing: inherit\; outline: none\; font-size: 12pt\;"><span style="box-sizing: inherit\; outline: none\; font-weight: bold\;">Experienced Presenters:</span> Learn from industry leaders and regulatory experts<b style="box-sizing: inherit\; outline: none\; font-weight: bold\;">.</b></span></li><li style="box-sizing: inherit\; outline: none\;"><span style="box-sizing: inherit\; outline: none\; font-size: 12pt\;"><span style="box-sizing: inherit\; outline: none\; font-weight: bold\;">Networking Opportunities:</span> Connect with peers and expand your professional network.</span></li><li style="box-sizing: inherit\; outline: none\;"><span style="box-sizing: inherit\; outline: none\; font-size: 12pt\;"><span style="box-sizing: inherit\; outline: none\; font-weight: bold\;">Practical Insights:</span> Gain actionable strategies to implement in your organization.</span></li><li style="box-sizing: inherit\; outline: none\;"><span style="box-sizing: inherit\; outline: none\; font-size: 12pt\;"><span style="box-sizing: inherit\; outline: none\; font-weight: bold\;">Leadership Development:</span> Enhance your leadership skills to drive compliance success.</span></li></ul><p style="box-sizing: inherit\; outline: none\; margin: 1em 0px\; color: rgb(70\, 75\, 75)\; font-family: arial\; font-size: 19.9669px\; font-style: normal\; font-variant-ligatures: normal\; font-variant-caps: normal\; font-weight: 400\; letter-spacing: normal\; orphans: 2\; text-align: start\; text-indent: 0px\; text-transform: none\; widows: 2\; word-spacing: 0px\; -webkit-text-stroke-width: 0px\; white-space: normal\; text-decoration-thickness: initial\; text-decoration-style: initial\; text-decoration-color: initial\;"><span style="box-sizing: inherit\; outline: none\; font-size: 12pt\;">Don&#39\;t miss this opportunity to stay compliant\, lead with confidence\, and drive your organization forward.</span></p></body></html>
LOCATION:
UID:e.4165.1428402
SEQUENCE:3
DTSTAMP:20260424T081839Z
URL:https://members.greaterlouisville.com/eventcalendar/Details/spring-regulatory-compliance-conference-1689777?sourceTypeId=Hub
END:VEVENT
END:VCALENDAR
