BEGIN:VCALENDAR
VERSION:2.0
PRODID:-//ChamberMaster//Event Calendar 2.0//EN
METHOD:PUBLISH
X-PUBLISHED-TTL:P1H
REFRESH-INTERVAL:P1H
CALSCALE:GREGORIAN
BEGIN:VTIMEZONE
TZID:America/New_York
BEGIN:DAYLIGHT
RRULE:FREQ=YEARLY;BYMONTH=3;BYDAY=2SU
DTSTART:20070101T000000
TZOFFSETFROM:-0500
TZOFFSETTO:-0400
TZNAME:Eastern Daylight Time
END:DAYLIGHT
BEGIN:STANDARD
RRULE:FREQ=YEARLY;BYMONTH=11;BYDAY=1SU
DTSTART:20070101T000000
TZOFFSETFROM:-0400
TZOFFSETTO:-0500
TZNAME:Eastern Standard Time
END:STANDARD
END:VTIMEZONE
BEGIN:VEVENT
DTSTART;TZID=America/New_York:20260416T160000
DTEND;TZID=America/New_York:20260416T180000
X-MICROSOFT-CDO-ALLDAYEVENT:FALSE
SUMMARY:Louisville AI Exchange - Builders Night
DESCRIPTION:Join our monthly AI meetup for real-world insights & shared learning.This Month: AI Builders Session: Build and Learn\, TogetherMost months\, we gather around a featured speaker. This month\, we're gathering around your work.April's Louisville AI Exchange is our first-ever Builders Session: an open\, hands-on evening for anyone working on an AI project or thinking about starting one. Bring whatever you're building or stuck on\, and dig in alongside a room full of peers doing the same. Swap tools\, share what's working\, and bounce ideas off people who get it.And you don't need a project to belong here. If you're AI-curious\, just getting started\, or want to see what others are actually building in Louisville right now\, pull up a chair.We're also trying out a new venue this month. West 6th Brewing in NuLu offers the kind of open\, collaborative space made for exactly this kind of evening.Come with something to work on and a fully charged laptop\, or just come ready to connect.About the EventIf you're a business leader in Louisville wondering what AI means for you\, you're not alone. That's precisely why Slingshot and the University of Louisville College of Business host the Louisville AI Exchange\, a monthly meetup series designed to connect\, inspire\, and empower the local AI-curious community\, without sales pitches or agendas.This meetup is a space where professionals from all walks (business\, tech\, government\, and startups) can come together and ask the fundamental questions: What's working? What's not? What are others doing with AI that's solving real problems?SummaryHosted monthly by Slingshot & UofL COBOpen builders format\, bring your project and get to workOpen mic sessions and peer-to-peer learningPlenty of time to network and connectBring a fully charged laptop
X-ALT-DESC;FMTTYPE=text/html:<!DOCTYPE html><html><head><title></title></head><body aria-disabled="false"><div data-testid="text-content" style='box-sizing: border-box\; padding: 0px\; margin: 0px\; color: rgb(88\, 81\, 99)\; align-self: stretch\; overflow: hidden\; text-overflow: ellipsis\; font-weight: 400\; line-height: 23.94px\; letter-spacing: 0.1px\; font-size: 18px\; font-family: "Neue Plak"\, -apple-system\, BlinkMacSystemFont\, Roboto\, "Helvetica Neue"\, Helvetica\, Tahoma\, Arial\, sans-serif\; font-style: normal\; font-variant-ligatures: normal\; font-variant-caps: normal\; orphans: 2\; text-align: start\; text-indent: 0px\; text-transform: none\; widows: 2\; word-spacing: 0px\; -webkit-text-stroke-width: 0px\; white-space: normal\; text-decoration-thickness: initial\; text-decoration-style: initial\; text-decoration-color: initial\;'><div style="box-sizing: border-box\; padding: 0px\; margin: 0px\;"><p style="box-sizing: border-box\; padding: 0px 0px 12px\; margin: 0px\;">Join our monthly AI meetup for real-world insights &amp\; shared learning.</p></div></div><div data-testid="text-content" style='box-sizing: border-box\; padding: 0px\; margin: 0px\; color: rgb(88\, 81\, 99)\; align-self: stretch\; overflow: hidden\; text-overflow: ellipsis\; font-weight: 400\; line-height: 23.94px\; letter-spacing: 0.1px\; font-size: 18px\; font-family: "Neue Plak"\, -apple-system\, BlinkMacSystemFont\, Roboto\, "Helvetica Neue"\, Helvetica\, Tahoma\, Arial\, sans-serif\; font-style: normal\; font-variant-ligatures: normal\; font-variant-caps: normal\; orphans: 2\; text-align: start\; text-indent: 0px\; text-transform: none\; widows: 2\; word-spacing: 0px\; -webkit-text-stroke-width: 0px\; white-space: normal\; text-decoration-thickness: initial\; text-decoration-style: initial\; text-decoration-color: initial\;'><div style="box-sizing: border-box\; padding: 0px\; margin: 0px\;"><p style="box-sizing: border-box\; padding: 0px 0px 12px\; margin: 0px\;"><strong fr-original-style="box-sizing: border-box\; padding: 0px\; margin: 0px\; font-weight: 600\;" style="box-sizing: border-box\; padding: 0px\; margin: 0px\; font-weight: 600\;"><strong fr-original-style="box-sizing: border-box\; padding: 0px\; margin: 0px\; font-weight: 600\;" style="box-sizing: border-box\; padding: 0px\; margin: 0px\; font-weight: 600\;">This Month: AI Builders Session: Build and Learn\, Together</strong></strong></p><p style="box-sizing: border-box\; padding: 0px 0px 12px\; margin: 12px 0px 0px\;">Most months\, we gather around a featured speaker. This month\, we&#39\;re gathering around your work.</p><p style="box-sizing: border-box\; padding: 0px 0px 12px\; margin: 12px 0px 0px\;">April&#39\;s Louisville AI Exchange is our first-ever Builders Session: an open\, hands-on evening for anyone working on an AI project or thinking about starting one. Bring whatever you&#39\;re building or stuck on\, and dig in alongside a room full of peers doing the same. Swap tools\, share what&#39\;s working\, and bounce ideas off people who get it.</p><p style="box-sizing: border-box\; padding: 0px 0px 12px\; margin: 12px 0px 0px\;">And you don&#39\;t need a project to belong here. If you&#39\;re AI-curious\, just getting started\, or want to see what others are actually building in Louisville right now\, pull up a chair.</p><p style="box-sizing: border-box\; padding: 0px 0px 12px\; margin: 12px 0px 0px\;">We&#39\;re also trying out a new venue this month. West 6th Brewing in NuLu offers the kind of open\, collaborative space made for exactly this kind of evening.</p><p style="box-sizing: border-box\; padding: 0px 0px 12px\; margin: 12px 0px 0px\;">Come with something to work on and a fully charged laptop\, or just come ready to connect.</p><p style="box-sizing: border-box\; padding: 0px 0px 12px\; margin: 12px 0px 0px\;"><strong fr-original-style="box-sizing: border-box\; padding: 0px\; margin: 0px\; font-weight: 600\;" style="box-sizing: border-box\; padding: 0px\; margin: 0px\; font-weight: 600\;"><strong fr-original-style="box-sizing: border-box\; padding: 0px\; margin: 0px\; font-weight: 600\;" style="box-sizing: border-box\; padding: 0px\; margin: 0px\; font-weight: 600\;">About the Event</strong></strong></p><p style="box-sizing: border-box\; padding: 0px 0px 12px\; margin: 12px 0px 0px\;">If you&#39\;re a business leader in Louisville wondering what AI means for you\, you&#39\;re not alone. That&#39\;s precisely why Slingshot and the University of Louisville College of Business host the Louisville AI Exchange\, a monthly meetup series designed to connect\, inspire\, and empower the local AI-curious community\, without sales pitches or agendas.</p><p style="box-sizing: border-box\; padding: 0px 0px 12px\; margin: 12px 0px 0px\;">This meetup is a space where professionals from all walks (business\, tech\, government\, and startups) can come together and ask the fundamental questions: What&#39\;s working? What&#39\;s not? What are others doing with AI that&#39\;s solving real problems?</p><p style="box-sizing: border-box\; padding: 0px 0px 12px\; margin: 12px 0px 0px\;"><strong fr-original-style="box-sizing: border-box\; padding: 0px\; margin: 0px\; font-weight: 600\;" style="box-sizing: border-box\; padding: 0px\; margin: 0px\; font-weight: 600\;"><strong fr-original-style="box-sizing: border-box\; padding: 0px\; margin: 0px\; font-weight: 600\;" style="box-sizing: border-box\; padding: 0px\; margin: 0px\; font-weight: 600\;">Summary</strong></strong></p><ul fr-original-style="box-sizing: border-box\; padding: 0px 0px 0px 32px\; margin: 12px 0px 0px\;" style="box-sizing: border-box\; padding: 0px 0px 0px 32px\; margin: 12px 0px 0px\; list-style-position: inside\;"><li style="box-sizing: border-box\; padding: 0px 0px 12px\; margin: 0px\;">Hosted monthly by Slingshot &amp\; UofL COB</li><li style="box-sizing: border-box\; padding: 0px 0px 12px\; margin: 4px 0px 0px\;">Open builders format\, bring your project and get to work</li><li style="box-sizing: border-box\; padding: 0px 0px 12px\; margin: 4px 0px 0px\;">Open mic sessions and peer-to-peer learning</li><li style="box-sizing: border-box\; padding: 0px 0px 12px\; margin: 4px 0px 0px\;">Plenty of time to network and connect</li><li style="box-sizing: border-box\; padding: 0px 0px 12px\; margin: 4px 0px 0px\;">Bring a fully charged laptop</li></ul></div></div></body></html>
LOCATION:
UID:e.4165.1433961
SEQUENCE:3
DTSTAMP:20260420T105516Z
URL:https://members.greaterlouisville.com/eventcalendar/Details/louisville-ai-exchange-builders-night-1697457?sourceTypeId=Hub
END:VEVENT
END:VCALENDAR
