BEGIN:VCALENDAR
VERSION:2.0
PRODID:-//ChamberMaster//Event Calendar 2.0//EN
METHOD:PUBLISH
X-PUBLISHED-TTL:P1H
REFRESH-INTERVAL:P1H
CALSCALE:GREGORIAN
BEGIN:VTIMEZONE
TZID:America/New_York
BEGIN:DAYLIGHT
RRULE:FREQ=YEARLY;BYMONTH=3;BYDAY=2SU
DTSTART:20070101T000000
TZOFFSETFROM:-0500
TZOFFSETTO:-0400
TZNAME:Eastern Daylight Time
END:DAYLIGHT
BEGIN:STANDARD
RRULE:FREQ=YEARLY;BYMONTH=11;BYDAY=1SU
DTSTART:20070101T000000
TZOFFSETFROM:-0400
TZOFFSETTO:-0500
TZNAME:Eastern Standard Time
END:STANDARD
END:VTIMEZONE
BEGIN:VEVENT
DTSTART;TZID=America/New_York:20260430T190000
DTEND;TZID=America/New_York:20260430T230000
X-MICROSOFT-CDO-ALLDAYEVENT:FALSE
SUMMARY:Kip Moore: Derby Week Concert
DESCRIPTION:Multi-platinum country star Kip Moore brings his signature grit\, heartland storytelling\, and electrifying live show to Fourth Street Live! on Wednesday\, April 30\, during one of Louisville's most exciting weeks. If you're looking for the ultimate live country music experience in downtown Louisville\, this high-energy night is the perfect way to kick off the Derby festivities.Known for his raw vocals and road-tested performances\, Moore has become one of country music's most respected live acts\, earning a loyal fanbase worldwide and surpassing one billion career streams. Fans can expect chart-topping hits like "Somethin' 'Bout a Truck\," "Hey Pretty Girl\," "Beer Money\," and "More Girls Like You\," along with the anthemic songs that have defined his five critically acclaimed albums.Located just steps from Louisville's premier celebrations\, Fourth Street Live! is one of the city's top destinations for concerts\, nightlife\, and entertainment. Grab your crew\, raise a glass\, and sing along as Kip Moore delivers a night of unforgettable country hits.For more info\, visit Fourth Street Live!.\nPurchase tickets here.
X-ALT-DESC;FMTTYPE=text/html:<!DOCTYPE html><html><head><title></title></head><body aria-disabled="false"><p data-end="528" data-start="166">Multi-platinum country star Kip Moore brings his signature grit\, heartland storytelling\, and electrifying live show to Fourth Street Live! on Wednesday\, April 30\, during one of Louisville&rsquo\;s most exciting weeks. If you&rsquo\;re looking for the ultimate live country music experience in downtown Louisville\, this high-energy night is the perfect way to kick off the Derby festivities.</p><p data-end="942" data-start="530">Known for his raw vocals and road-tested performances\, Moore has become one of country music&rsquo\;s most respected live acts\, earning a loyal fanbase worldwide and surpassing one billion career streams. Fans can expect chart-topping hits like &ldquo\;Somethin&rsquo\; &rsquo\;Bout a Truck\,&rdquo\; &ldquo\;Hey Pretty Girl\,&rdquo\; &ldquo\;Beer Money\,&rdquo\; and &ldquo\;More Girls Like You\,&rdquo\; along with the anthemic songs that have defined his five critically acclaimed albums.</p><p data-end="1213" data-start="944">Located just steps from Louisville&rsquo\;s premier celebrations\, Fourth Street Live! is one of the city&rsquo\;s top destinations for concerts\, nightlife\, and entertainment. Grab your crew\, raise a glass\, and sing along as Kip Moore delivers a night of unforgettable country hits.</p><p data-end="1428" data-start="1215">For more info\, visit <a data-end="1336" data-start="1236" fr-original-style="" href="https://4thstlive.com/Events-and-Entertainment/Events/2026/20260430-Kip-Moore" rel="noopener" style="-webkit-user-select: auto\;" target="_new">Fourth Street Live!</a>.<br data-start="1337" data-end="1340">Purchase tickets <a data-end="1425" data-start="1357" fr-original-style="" href="https://www.axs.com/events/1364326/kip-moore-tickets?cid=gli" rel="noopener" style="-webkit-user-select: auto\;" target="_new">here</a>.</p></body></html>
LOCATION:
UID:e.4165.1417548
SEQUENCE:3
DTSTAMP:20260420T105353Z
URL:https://members.greaterlouisville.com/eventcalendar/Details/kip-moore-derby-week-concert-1675611?sourceTypeId=Hub
END:VEVENT
END:VCALENDAR
