BEGIN:VCALENDAR
VERSION:2.0
PRODID:-//ChamberMaster//Event Calendar 2.0//EN
METHOD:PUBLISH
X-PUBLISHED-TTL:P1H
REFRESH-INTERVAL:P1H
CALSCALE:GREGORIAN
BEGIN:VTIMEZONE
TZID:America/New_York
BEGIN:DAYLIGHT
RRULE:FREQ=YEARLY;BYMONTH=3;BYDAY=2SU
DTSTART:20070101T000000
TZOFFSETFROM:-0500
TZOFFSETTO:-0400
TZNAME:Eastern Daylight Time
END:DAYLIGHT
BEGIN:STANDARD
RRULE:FREQ=YEARLY;BYMONTH=11;BYDAY=1SU
DTSTART:20070101T000000
TZOFFSETFROM:-0400
TZOFFSETTO:-0500
TZNAME:Eastern Standard Time
END:STANDARD
END:VTIMEZONE
BEGIN:VEVENT
DTSTART;TZID=America/New_York:20260501T190000
DTEND;TZID=America/New_York:20260501T230000
X-MICROSOFT-CDO-ALLDAYEVENT:FALSE
SUMMARY:BUNT. Derby Week Concert
DESCRIPTION:Get ready to lose yourself on the dance floor with BUNT.\, the global EDM phenomenon\, live at Fourth Street Live! on Friday\, May 1\, 2026. Known for electrifying shows and massive festival energy\, BUNT. will spin his viral hits like "Clouds" and "Trippin'\," along with the anthems that have made him a staple in the electronic music scene.Feel the bass drop and the lights pulse as Fourth Street Live! transforms into the ultimate EDM playground. Whether you're a die-hard fan or just looking for the hottest Derby week party in Louisville\, this is your night to dance\, connect\, and lose yourself in the music. Bring your crew\, soak in the vibes\, and enjoy one of the city!Click HERE for more infoClick HERE to purchase tickets
X-ALT-DESC;FMTTYPE=text/html:<!DOCTYPE html><html><head><title></title></head><body aria-disabled="false"><p>Get ready to lose yourself on the dance floor with BUNT.\, the global EDM phenomenon\, live at Fourth Street Live! on Friday\, May 1\, 2026. Known for electrifying shows and massive festival energy\, BUNT. will spin his viral hits like &ldquo\;Clouds&rdquo\; and &ldquo\;Trippin&rsquo\;\,&rdquo\; along with the anthems that have made him a staple in the electronic music scene.</p><p>Feel the bass drop and the lights pulse as Fourth Street Live! transforms into the ultimate EDM playground. Whether you&#39\;re a die-hard fan or just looking for the hottest Derby week party in Louisville\, this is your night to dance\, connect\, and lose yourself in the music. Bring your crew\, soak in the vibes\, and enjoy one of the city!</p><p><a fr-original-style="" href="https://4thstlive.com/Events-and-Entertainment/Events/2026/20260501-BUNT" style="-webkit-user-select: auto\;" text="_blank">Click HERE for more info</a></p><p><a fr-original-style="" href="https://www.axs.com/events/1352798/bunt-tickets?cid=gli" style="-webkit-user-select: auto\;" text="_blank">Click HERE to purchase tickets</a></p></body></html>
LOCATION:
UID:e.4165.1417673
SEQUENCE:3
DTSTAMP:20260420T105343Z
URL:https://members.greaterlouisville.com/eventcalendar/Details/bunt-derby-week-concert-1675775?sourceTypeId=Hub
END:VEVENT
END:VCALENDAR
