BEGIN:VCALENDAR
VERSION:2.0
PRODID:-//ChamberMaster//Event Calendar 2.0//EN
METHOD:PUBLISH
X-PUBLISHED-TTL:P1H
REFRESH-INTERVAL:P1H
CALSCALE:GREGORIAN
BEGIN:VTIMEZONE
TZID:America/New_York
BEGIN:DAYLIGHT
RRULE:FREQ=YEARLY;BYMONTH=3;BYDAY=2SU
DTSTART:20070101T000000
TZOFFSETFROM:-0500
TZOFFSETTO:-0400
TZNAME:Eastern Daylight Time
END:DAYLIGHT
BEGIN:STANDARD
RRULE:FREQ=YEARLY;BYMONTH=11;BYDAY=1SU
DTSTART:20070101T000000
TZOFFSETFROM:-0400
TZOFFSETTO:-0500
TZNAME:Eastern Standard Time
END:STANDARD
END:VTIMEZONE
BEGIN:VEVENT
DTSTART;TZID=America/New_York:20260914T080000
DTEND;TZID=America/New_York:20260918T150000
X-MICROSOFT-CDO-ALLDAYEVENT:FALSE
SUMMARY:2026 Fall Regulatory Compliance Conference
DESCRIPTION:Join ProBank Education Services at our Fall Regulatory Compliance Conference in Miramar Beach/Sandestin\, Florida from September 14-18\, 2026. Our team will help you to innovate your compliance program and adapt your leadership approach to build your organization's success. Our five-day conference is focused on the latest in deposits\, BSA\, and lending compliance\, mixed with essential leadership topics.Why attend? Learn\, network\, and grow!Experienced presenters: Learn from industry leaders and regulatory experts. Networking opportunities: Connect with peers and expand your professional network.Practical insights: Gain actionable strategies to implement in your organization.Leadership development: Enhance your leadership skills to drive compliance success.Compliance is better at the beach: Enjoy a refreshing blend of professional learning and relaxation.Don't miss this opportunity to stay compliant\, lead with confidence\, and drive your organization forward.
X-ALT-DESC;FMTTYPE=text/html:<!DOCTYPE html><html><head><title></title></head><body aria-disabled="false"><p style="box-sizing: inherit\; outline: none\; margin: 1em 0px\; color: rgb(70\, 75\, 75)\; font-family: arial\; font-style: normal\; font-variant-ligatures: normal\; font-variant-caps: normal\; font-weight: 400\; letter-spacing: normal\; orphans: 2\; text-align: inherit\; text-indent: 0px\; text-transform: none\; widows: 2\; word-spacing: 0px\; -webkit-text-stroke-width: 0px\; white-space: normal\; text-decoration-thickness: initial\; text-decoration-style: initial\; text-decoration-color: initial\; font-size: 16pt\;"><span style="box-sizing: inherit\; outline: none\; background-color: unset\; text-align: inherit\; font-size: 12pt\;"><span style="box-sizing: inherit\; outline: none\; font-family: arial\, sans-serif\;">Join ProBank Education Services at our</span></span><span style="box-sizing: inherit\; outline: none\; background-color: unset\; text-align: inherit\; font-size: 12pt\;">&nbsp\;</span><span style="box-sizing: inherit\; outline: none\; background-color: unset\; text-align: inherit\; font-size: 12pt\;"><span style="box-sizing: inherit\; outline: none\; font-family: arial\, sans-serif\;"><strong fr-original-style="box-sizing: inherit\; outline: none\; font-weight: bold\;" style="box-sizing: inherit\; outline: none\; font-weight: bold\;">Fall Regulatory Compliance Conference</strong></span></span><span style="box-sizing: inherit\; outline: none\; background-color: unset\; text-align: inherit\; font-size: 12pt\;"><span style="box-sizing: inherit\; outline: none\; font-family: arial\, sans-serif\;">&nbsp\;in</span></span><span style="box-sizing: inherit\; outline: none\; background-color: unset\; text-align: inherit\; font-size: 12pt\;"><span style="box-sizing: inherit\; outline: none\; font-family: arial\, sans-serif\;">&nbsp\;<strong fr-original-style="box-sizing: inherit\; outline: none\; font-weight: bold\;" style="box-sizing: inherit\; outline: none\; font-weight: bold\;">Miramar Beach/</strong></span></span><span style="box-sizing: inherit\; outline: none\; background-color: unset\; text-align: inherit\; font-size: 12pt\;"><span style="box-sizing: inherit\; outline: none\; font-family: arial\, sans-serif\;"><strong fr-original-style="box-sizing: inherit\; outline: none\; font-weight: bold\;" style="box-sizing: inherit\; outline: none\; font-weight: bold\;">Sandestin\, Florida</strong></span></span><span style="box-sizing: inherit\; outline: none\; background-color: unset\; text-align: inherit\; font-size: 12pt\;"><span style="box-sizing: inherit\; outline: none\; font-family: arial\, sans-serif\;">&nbsp\;from</span></span><span style="box-sizing: inherit\; outline: none\; background-color: unset\; text-align: inherit\; font-size: 12pt\;">&nbsp\;<span style="box-sizing: inherit\; outline: none\; font-size: 12pt\;"><span style="box-sizing: inherit\; outline: none\; font-family: arial\, sans-serif\;"><strong fr-original-style="box-sizing: inherit\; outline: none\; font-weight: bold\;" style="box-sizing: inherit\; outline: none\; font-weight: bold\;">September 14-18\, 2026</strong></span></span><span style="box-sizing: inherit\; outline: none\; font-size: 12pt\;"><span style="box-sizing: inherit\; outline: none\; font-family: arial\, sans-serif\;">.</span></span></span><span style="box-sizing: inherit\; outline: none\; background-color: unset\; text-align: inherit\; font-size: 12pt\;"><span style="box-sizing: inherit\; outline: none\; font-family: arial\, sans-serif\;">&nbsp\;</span></span><span style="box-sizing: inherit\; outline: none\; background-color: unset\; font-family: arial\, sans-serif\; font-size: 12pt\; text-align: inherit\;">Our team will help you to innovate your compliance program and adapt your leadership approach to build your organization&rsquo\;s success. Our five-day conference is focused on the latest in deposits\, BSA\, and lending compliance\, mixed with essential leadership topics.</span></p><p style="box-sizing: inherit\; outline: none\; margin: 1em 0px\; color: rgb(70\, 75\, 75)\; font-family: arial\; font-style: normal\; font-variant-ligatures: normal\; font-variant-caps: normal\; font-weight: 400\; letter-spacing: normal\; orphans: 2\; text-align: start\; text-indent: 0px\; text-transform: none\; widows: 2\; word-spacing: 0px\; -webkit-text-stroke-width: 0px\; white-space: normal\; text-decoration-thickness: initial\; text-decoration-style: initial\; text-decoration-color: initial\; font-size: 14pt\;"><span style="box-sizing: inherit\; outline: none\; color: rgb(0\, 30\, 255)\; text-decoration: inherit\;"><strong fr-original-style="box-sizing: inherit\; outline: none\; font-weight: bold\; text-decoration-line: inherit\; font-family: arial\, sans-serif\; font-size: 12pt\; background-color: unset\; text-align: inherit\;" style="box-sizing: inherit\; outline: none\; font-weight: bold\; text-decoration-line: inherit\; font-family: arial\, sans-serif\; font-size: 12pt\; background-color: unset\; text-align: inherit\;">Why attend?&nbsp\;Learn\, network\, and grow!</strong></span></p><ul fr-original-style="box-sizing: inherit\; outline: none\; margin: 0px 0px 1rem 2rem\; padding: 0px\; color: rgb(70\, 75\, 75)\; font-family: arial\; font-size: 19.9669px\; font-style: normal\; font-variant-ligatures: normal\; font-variant-caps: normal\; font-weight: 400\; letter-spacing: normal\; orphans: 2\; text-align: start\; text-indent: 0px\; text-transform: none\; widows: 2\; word-spacing: 0px\; -webkit-text-stroke-width: 0px\; white-space: normal\; text-decoration-thickness: initial\; text-decoration-style: initial\; text-decoration-color: initial\; list-style-image: none\; list-style-type: disc\;" style="box-sizing: inherit\; outline: none\; margin: 0px 0px 1rem 2rem\; padding: 0px\; color: rgb(70\, 75\, 75)\; font-family: arial\; font-size: 19.9669px\; font-style: normal\; font-variant-ligatures: normal\; font-variant-caps: normal\; font-weight: 400\; letter-spacing: normal\; orphans: 2\; text-align: start\; text-indent: 0px\; text-transform: none\; widows: 2\; word-spacing: 0px\; -webkit-text-stroke-width: 0px\; white-space: normal\; text-decoration-thickness: initial\; text-decoration-style: initial\; text-decoration-color: initial\; list-style: inside none disc\;"><li style="box-sizing: inherit\; outline: none\; font-weight: normal\; font-family: arial\, sans-serif\; font-size: 12pt\;"><span style="box-sizing: inherit\; outline: none\;"><span style="box-sizing: inherit\; outline: none\; font-size: 12pt\;"><span style="box-sizing: inherit\; outline: none\; font-family: arial\, sans-serif\;"><span style="box-sizing: inherit\; outline: none\;"><strong fr-original-style="box-sizing: inherit\; outline: none\; font-weight: bold\;" style="box-sizing: inherit\; outline: none\; font-weight: bold\;">Experienced presenters:</strong></span></span></span><span style="box-sizing: inherit\; outline: none\;"><span style="box-sizing: inherit\; outline: none\; font-size: 12pt\;"><span style="box-sizing: inherit\; outline: none\; font-family: arial\, sans-serif\;">&nbsp\;Learn from industry leaders and regulatory experts</span></span><span style="box-sizing: inherit\; outline: none\; font-size: 12pt\;"><span style="box-sizing: inherit\; outline: none\; font-family: arial\, sans-serif\;"><span style="box-sizing: inherit\; outline: none\;"><span style="box-sizing: inherit\; outline: none\;"><span style="box-sizing: inherit\; outline: none\;"><span style="box-sizing: inherit\; outline: none\;">.&nbsp\;</span></span></span></span></span></span></span></span></li><li style="box-sizing: inherit\; outline: none\; font-weight: normal\; font-family: arial\, sans-serif\; font-size: 12pt\;"><strong fr-original-style="box-sizing: inherit\; outline: none\; font-weight: bold\;" style="box-sizing: inherit\; outline: none\; font-weight: bold\;">Networking opportunities:</strong><span style="box-sizing: inherit\; outline: none\; font-size: 12pt\; background-color: unset\; text-align: inherit\;">&nbsp\;Connect with peers and expand your professional network.</span></li><li style="box-sizing: inherit\; outline: none\; font-weight: normal\; font-family: arial\, sans-serif\; font-size: 12pt\;"><strong fr-original-style="box-sizing: inherit\; outline: none\; font-weight: bold\;" style="box-sizing: inherit\; outline: none\; font-weight: bold\;">Practical insights:</strong><span style="box-sizing: inherit\; outline: none\; font-size: 12pt\; background-color: unset\; text-align: inherit\;">&nbsp\;Gain actionable strategies to implement in your organization.</span></li><li style="box-sizing: inherit\; outline: none\; font-weight: normal\; font-family: arial\, sans-serif\; font-size: 12pt\;"><strong fr-original-style="box-sizing: inherit\; outline: none\; font-weight: bold\;" style="box-sizing: inherit\; outline: none\; font-weight: bold\;">Leadership development:</strong><span style="box-sizing: inherit\; outline: none\; font-size: 12pt\; background-color: unset\; text-align: inherit\;">&nbsp\;Enhance your leadership skills to drive compliance success.</span></li><li style="box-sizing: inherit\; outline: none\; font-weight: normal\; font-family: arial\, sans-serif\; font-size: 12pt\;"><em style="box-sizing: inherit\; outline: none\; font-style: initial\;"><span style="box-sizing: inherit\; outline: none\; font-style: italic\;"><strong fr-original-style="box-sizing: inherit\; outline: none\; font-weight: bold\;" style="box-sizing: inherit\; outline: none\; font-weight: bold\;">Compliance is better at the beach:</strong>&nbsp\;</span></em><span style="box-sizing: inherit\; outline: none\; font-size: 12pt\; background-color: unset\; text-align: inherit\;">Enjoy a refreshing blend of professional learning and relaxation.</span></li><li style="box-sizing: inherit\; outline: none\; font-weight: normal\; font-family: arial\, sans-serif\; font-size: 12pt\;">Don&#39\;t miss this opportunity to <strong fr-original-style="box-sizing: inherit\; outline: none\; font-weight: bold\;" style="box-sizing: inherit\; outline: none\; font-weight: bold\;">stay compliant\,</strong> <strong fr-original-style="box-sizing: inherit\; outline: none\; font-weight: bold\;" style="box-sizing: inherit\; outline: none\; font-weight: bold\;">lead with confidence</strong>\, and <strong fr-original-style="box-sizing: inherit\; outline: none\; font-weight: bold\;" style="box-sizing: inherit\; outline: none\; font-weight: bold\;">drive your organization forward</strong>.</li></ul></body></html>
LOCATION:
UID:e.4165.1428410
SEQUENCE:3
DTSTAMP:20260420T105343Z
URL:https://members.greaterlouisville.com/eventcalendar/Details/2026-fall-regulatory-compliance-conference-1689785?sourceTypeId=Hub
END:VEVENT
END:VCALENDAR
