BEGIN:VCALENDAR
VERSION:2.0
PRODID:-//ChamberMaster//Event Calendar 2.0//EN
METHOD:PUBLISH
X-PUBLISHED-TTL:P1H
REFRESH-INTERVAL:P1H
CALSCALE:GREGORIAN
BEGIN:VTIMEZONE
TZID:America/New_York
BEGIN:DAYLIGHT
RRULE:FREQ=YEARLY;BYMONTH=3;BYDAY=2SU
DTSTART:20070101T000000
TZOFFSETFROM:-0500
TZOFFSETTO:-0400
TZNAME:Eastern Daylight Time
END:DAYLIGHT
BEGIN:STANDARD
RRULE:FREQ=YEARLY;BYMONTH=11;BYDAY=1SU
DTSTART:20070101T000000
TZOFFSETFROM:-0400
TZOFFSETTO:-0500
TZNAME:Eastern Standard Time
END:STANDARD
END:VTIMEZONE
BEGIN:VEVENT
DTSTART;TZID=America/New_York:20260512T080000
DTEND;TZID=America/New_York:20260514T150000
X-MICROSOFT-CDO-ALLDAYEVENT:FALSE
SUMMARY:2026 AML/CFT/BSA & Fraud Compliance Conference
DESCRIPTION:The 2026 AML/CFT/ BSA & Fraud Compliance Conference continues to offer both challenges and opportunities for financial institutions to tackle financial crime. Join us at the Hilton Sandestin Beach Golf Resort & Spa in Sandestin/Miramar Beach\, Florida for the two and a half day 2026 AML/CFT/BSA & Fraud Compliance Conference to identify current and emerging AML/CFT/BSA and Fraud risks. After all\, compliance is better at the beach!If you are looking for a well-rounded AML/CFT/ BSA and Fraud training event\, this is the conference to attend.In addition to current and emerging risks\, we will take a deep dive into Customer/Member Due Diligence (CDD/MDD) and Money Laundering   the challenges and the opportunities to help detect\, prevent and mitigate your financial crime risks.We'll have a packed agenda to meet your annual training requirements and more   to put you ahead of the game!  We will be joined by federal regulators to provide you with the latest AML/CFT/BSA / Fraud regulatory concerns. Join us as we fight financial crime together!
X-ALT-DESC;FMTTYPE=text/html:<!DOCTYPE html><html><head><title></title></head><body aria-disabled="false"><p style="box-sizing: inherit\; outline: none\; margin: 1em 0px\; color: rgb(70\, 75\, 75)\; font-family: arial\; font-size: 19.9669px\; font-style: normal\; font-variant-ligatures: normal\; font-variant-caps: normal\; font-weight: 400\; letter-spacing: normal\; orphans: 2\; text-align: start\; text-indent: 0px\; text-transform: none\; widows: 2\; word-spacing: 0px\; -webkit-text-stroke-width: 0px\; white-space: normal\; text-decoration-thickness: initial\; text-decoration-style: initial\; text-decoration-color: initial\;"><span style="box-sizing: inherit\; outline: none\; background-color: unset\; font-size: 16pt\; text-align: inherit\;"><span style="box-sizing: inherit\; outline: none\; color: rgb(0\, 0\, 0)\; text-decoration: inherit\;"><strong fr-original-style="box-sizing: inherit\; outline: none\; font-weight: bold\; background-color: unset\;" style="box-sizing: inherit\; outline: none\; font-weight: bold\; background-color: unset\;">The 2026 AML/CFT/ BSA &amp\;&nbsp\;Fraud Compliance Conference</strong></span></span><span style="box-sizing: inherit\; outline: none\; background-color: unset\; font-size: 16pt\; text-align: inherit\;"><span style="box-sizing: inherit\; outline: none\; color: rgb(0\, 0\, 0)\; text-decoration: inherit\;"><strong fr-original-style="box-sizing: inherit\; outline: none\; font-weight: bold\; background-color: unset\;" style="box-sizing: inherit\; outline: none\; font-weight: bold\; background-color: unset\;">&nbsp\;continues to offer both challenges and opportunities for financial institutions to tackle financial crime.&nbsp\;</strong></span></span></p><p style="box-sizing: inherit\; outline: none\; margin: 1em 0px\; color: rgb(70\, 75\, 75)\; font-family: arial\; font-size: 19.9669px\; font-style: normal\; font-variant-ligatures: normal\; font-variant-caps: normal\; font-weight: 400\; letter-spacing: normal\; orphans: 2\; text-align: start\; text-indent: 0px\; text-transform: none\; widows: 2\; word-spacing: 0px\; -webkit-text-stroke-width: 0px\; white-space: normal\; text-decoration-thickness: initial\; text-decoration-style: initial\; text-decoration-color: initial\;"><span style="box-sizing: inherit\; outline: none\; font-size: 12pt\; background-color: unset\; text-align: inherit\;">Join us at the&nbsp\;</span><span style="box-sizing: inherit\; outline: none\; font-size: 12pt\; background-color: unset\; text-align: inherit\; font-weight: bold\;">Hilton Sandestin Beach Golf Resort &amp\; Spa&nbsp\;</span><span style="box-sizing: inherit\; outline: none\; font-size: 12pt\; background-color: unset\; text-align: inherit\;">in</span><span style="box-sizing: inherit\; outline: none\; font-size: 12pt\; background-color: unset\; text-align: inherit\; font-weight: bold\;">&nbsp\;Sandestin/Miramar Beach\, Florida&nbsp\;</span><span style="box-sizing: inherit\; outline: none\; font-size: 12pt\; background-color: unset\; text-align: inherit\;">for the two and a half day&nbsp\;</span><span style="box-sizing: inherit\; outline: none\; color: rgb(70\, 75\, 75)\; font-weight: bold\;">2026&nbsp\;</span><span style="box-sizing: inherit\; outline: none\; font-weight: bold\;"><span style="box-sizing: inherit\; outline: none\; font-weight: bold\;">AML/CFT/BSA &amp\;&nbsp\;Fraud Compliance Conference</span></span><span style="box-sizing: inherit\; outline: none\; font-size: 12pt\; background-color: unset\; text-align: inherit\;"><span style="box-sizing: inherit\; outline: none\; font-style: italic\;">&nbsp\;</span>to identify current and emerging AML/CFT/BSA and Fraud risks.&nbsp\;</span></p><p style="box-sizing: inherit\; outline: none\; margin: 1em 0px\; color: rgb(70\, 75\, 75)\; font-family: arial\; font-size: 19.9669px\; font-style: normal\; font-variant-ligatures: normal\; font-variant-caps: normal\; font-weight: 400\; letter-spacing: normal\; orphans: 2\; text-align: start\; text-indent: 0px\; text-transform: none\; widows: 2\; word-spacing: 0px\; -webkit-text-stroke-width: 0px\; white-space: normal\; text-decoration-thickness: initial\; text-decoration-style: initial\; text-decoration-color: initial\;"><span style="box-sizing: inherit\; outline: none\; background-color: unset\; font-size: 12pt\; text-align: inherit\;">After all\, compliance is better at the beach!</span></p><p style="box-sizing: inherit\; outline: none\; margin: 1em 0px\; color: rgb(70\, 75\, 75)\; font-family: arial\; font-size: 19.9669px\; font-style: normal\; font-variant-ligatures: normal\; font-variant-caps: normal\; font-weight: 400\; letter-spacing: normal\; orphans: 2\; text-align: start\; text-indent: 0px\; text-transform: none\; widows: 2\; word-spacing: 0px\; -webkit-text-stroke-width: 0px\; white-space: normal\; text-decoration-thickness: initial\; text-decoration-style: initial\; text-decoration-color: initial\;"><span style="box-sizing: inherit\; outline: none\; font-size: 12pt\;"><span style="box-sizing: inherit\; outline: none\; font-family: arial\;"><span style="box-sizing: inherit\; outline: none\; color: rgb(70\, 75\, 75)\;"><strong fr-original-style="box-sizing: inherit\; outline: none\; font-weight: bold\;" style="box-sizing: inherit\; outline: none\; font-weight: bold\;">If you are looking for a well-rounded AML/CFT/ BSA and&nbsp\;Fraud&nbsp\;training event\, this is the conference to attend.</strong></span></span></span></p><p style="box-sizing: inherit\; outline: none\; margin: 1em 0px\; color: rgb(70\, 75\, 75)\; font-family: arial\; font-size: 19.9669px\; font-style: normal\; font-variant-ligatures: normal\; font-variant-caps: normal\; font-weight: 400\; letter-spacing: normal\; orphans: 2\; text-align: start\; text-indent: 0px\; text-transform: none\; widows: 2\; word-spacing: 0px\; -webkit-text-stroke-width: 0px\; white-space: normal\; text-decoration-thickness: initial\; text-decoration-style: initial\; text-decoration-color: initial\;"><span style="box-sizing: inherit\; outline: none\; color: rgb(70\, 75\, 75)\; font-size: 12pt\; background-color: unset\; text-align: inherit\;">In addition to current and emerging risks\, we will take a deep dive into Customer/Member Due Diligence (CDD/MDD) and Money Laundering &ndash\; the challenges and the opportunities to help detect\, prevent and mitigate your financial crime risks.</span></p><p style="box-sizing: inherit\; outline: none\; margin: 1em 0px\; color: rgb(70\, 75\, 75)\; font-family: arial\; font-size: 19.9669px\; font-style: normal\; font-variant-ligatures: normal\; font-variant-caps: normal\; font-weight: 400\; letter-spacing: normal\; orphans: 2\; text-align: start\; text-indent: 0px\; text-transform: none\; widows: 2\; word-spacing: 0px\; -webkit-text-stroke-width: 0px\; white-space: normal\; text-decoration-thickness: initial\; text-decoration-style: initial\; text-decoration-color: initial\;"><span style="box-sizing: inherit\; outline: none\; font-size: 12pt\;"><span style="box-sizing: inherit\; outline: none\; font-family: arial\;"><span style="box-sizing: inherit\; outline: none\; color: rgb(70\, 75\, 75)\;">We&#39\;ll have a packed agenda to meet your annual training requirements and more &ndash\; to put you ahead of the game! &nbsp\;We will be joined by federal regulators to provide you with the latest AML/CFT/BSA / Fraud regulatory concerns.&nbsp\;</span></span></span></p><p style="box-sizing: inherit\; outline: none\; margin: 1em 0px\; color: rgb(70\, 75\, 75)\; font-family: arial\; font-size: 19.9669px\; font-style: normal\; font-variant-ligatures: normal\; font-variant-caps: normal\; font-weight: 400\; letter-spacing: normal\; orphans: 2\; text-align: start\; text-indent: 0px\; text-transform: none\; widows: 2\; word-spacing: 0px\; -webkit-text-stroke-width: 0px\; white-space: normal\; text-decoration-thickness: initial\; text-decoration-style: initial\; text-decoration-color: initial\;"><strong fr-original-style="box-sizing: inherit\; outline: none\; font-weight: bold\;" style="box-sizing: inherit\; outline: none\; font-weight: bold\;">Join us as we fight financial crime together!</strong></p></body></html>
LOCATION:
UID:e.4165.1428406
SEQUENCE:3
DTSTAMP:20260420T105505Z
URL:https://members.greaterlouisville.com/eventcalendar/Details/2026-aml-cft-bsa-fraud-compliance-conference-1689781?sourceTypeId=Hub
END:VEVENT
END:VCALENDAR
